BEGIN:VCALENDAR
VERSION:2.0
PRODID:-//hacksw/handcal//NONSGML v1.0//EN
CALSCALE:GREGORIAN
BEGIN:VEVENT
DTEND;VALUE=DATE-TIME:20260521T140000
UID:69e502b1d9250
DTSTAMP;VALUE=DATE-TIME:20260419T182833
LOCATION:Berlin
DESCRIPTION:Zukunft mAIde with Germany: Das wichtigste Gipfeltreffen der Elektro- und Digitalindustrie mit Politik\, Wissenschaft und Gesellschaft.

SUMMARY:eSummit 2026
DTSTART;VALUE=DATE-TIME:20260520T130000
END:VEVENT
END:VCALENDAR
