BEGIN:VCALENDAR
VERSION:2.0
PRODID:-//hacksw/handcal//NONSGML v1.0//EN
CALSCALE:GREGORIAN
BEGIN:VEVENT
DTEND;VALUE=DATE-TIME:20261020T170000
UID:69e75a9e6f1ad
DTSTAMP;VALUE=DATE-TIME:20260421T130814
LOCATION:Frankfurt am Main
DESCRIPTION:Auf der diesjährigen Fachtagung erhalten die Teilnehmenden eine Fülle an praxisrelevanten Informationen zu Elektroakustischen Notfallwarnsystemen und Sprachalarmanlagen.
SUMMARY:Sprachalarmanlagen (SAA) und Elektroakustische Notfallwarnsysteme (ENS) im Fokus 
DTSTART;VALUE=DATE-TIME:20261020T093000
END:VEVENT
END:VCALENDAR
